BEGIN:VCALENDAR
VERSION:2.0
PRODID:-//Graduate Student Association - ECPv6.15.20//NONSGML v1.0//EN
CALSCALE:GREGORIAN
METHOD:PUBLISH
X-ORIGINAL-URL:https://ubwp.buffalo.edu/gsa
X-WR-CALDESC:Events for Graduate Student Association
REFRESH-INTERVAL;VALUE=DURATION:PT1H
X-Robots-Tag:noindex
X-PUBLISHED-TTL:PT1H
BEGIN:VTIMEZONE
TZID:UTC
BEGIN:STANDARD
TZOFFSETFROM:+0000
TZOFFSETTO:+0000
TZNAME:UTC
DTSTART:20130101T000000
END:STANDARD
END:VTIMEZONE
BEGIN:VEVENT
DTSTART;TZID=UTC:20140327T080000
DTEND;TZID=UTC:20140327T170000
DTSTAMP:20260423T063023
CREATED:20140327T161756Z
LAST-MODIFIED:20140327T161756Z
UID:1447-1395907200-1395939600@ubwp.buffalo.edu
SUMMARY:Milton Plesur Conference
DESCRIPTION:The 23rd Annual Milton Plesur Graduate History Conference is nearly upon us!  The conference will be taking place on Saturday\, April 5th\, 2014 in Room 145 of the Student Union on the North Campus.  Registration and breakfast will run from 8:30-9:00am. At 1:00pm\, Dr. Erin Kathleen Rowe\, of The Johns Hopkins University\, will deliver the keynote address titled “Imitating the Redeemer of the World: Blackness\, Slavery\, and Martyrdom in the Early Modern Hispanic World.”  The conference will conclude at 5:30 pm. \nWe hope that you will join us at this year’s conference. To help us make our final preparations we ask that you please fill out the RSVP form via the link HERE or below\, which will ask you to indicate which portions of the conference you will be attending.  If you have any questions please feel free to contact GHA President Joshua Schroeder (jrschroe@buffalo.edu). \nThank you\, and we are excited to see everybody at what is shaping up to be a great event! \n-Graduate History Association
URL:https://ubwp.buffalo.edu/gsa/event/milton-plesur-conference/
LOCATION:Unnamed Venue\, Buffalo\, NY\, United States
ORGANIZER;CN="GSA Administrative Team":MAILTO:slfrank@buffalo.edu
END:VEVENT
BEGIN:VEVENT
DTSTART;TZID=UTC:20140327T201500
DTEND;TZID=UTC:20140327T230000
DTSTAMP:20260423T063023
CREATED:20140128T112600Z
LAST-MODIFIED:20140128T112600Z
UID:1036-1395951300-1395961200@ubwp.buffalo.edu
SUMMARY:Ma Part du Gateau ~ French Connection Movie Night
DESCRIPTION:TFC Movie Night: Ma Part du Gateau (2011)\, 930 Clemens\, Thursday March 27th at 8:15pm. \nBonjour à tous\, \nThe French Connection is pleased to invite you to our next movie\, Ma Part du gateau\, from director Cédric Klapisch (The Spanish Apartment\, Paris). The movie is about France\, a single mother who just got laid off from the factory she worked at in Dunkerke\, northern France. She decides to move to Paris and start a job as a housekeeper for Steve\, a powerful broker. She soon realizes that Steve is responsible for the shutdown of her factory… \nAs usual\, popcorn and refreshments will be served before the movie. Please refer to the poster for more information and check out the trailer!
URL:https://ubwp.buffalo.edu/gsa/event/ma-part-du-gateau-french-connection-movie-night/
LOCATION:Clemens 930\, 930 Clemens Hall\, University at Buffalo\, Buffalo\, NY\, 14260\, United States
CATEGORIES:Club Event
ORGANIZER;CN="French Connection":MAILTO:ocle@buffalo.edu
END:VEVENT
END:VCALENDAR