BEGIN:VCALENDAR
VERSION:2.0
PRODID:-//Graduate Student Association - ECPv6.15.20//NONSGML v1.0//EN
CALSCALE:GREGORIAN
METHOD:PUBLISH
X-WR-CALNAME:Graduate Student Association
X-ORIGINAL-URL:https://ubwp.buffalo.edu/gsa
X-WR-CALDESC:Events for Graduate Student Association
REFRESH-INTERVAL;VALUE=DURATION:PT1H
X-Robots-Tag:noindex
X-PUBLISHED-TTL:PT1H
BEGIN:VTIMEZONE
TZID:UTC
BEGIN:STANDARD
TZOFFSETFROM:+0000
TZOFFSETTO:+0000
TZNAME:UTC
DTSTART:20130101T000000
END:STANDARD
END:VTIMEZONE
BEGIN:VEVENT
DTSTART;TZID=UTC:20140326T190000
DTEND;TZID=UTC:20140326T210000
DTSTAMP:20260423T062813
CREATED:20140320T154216Z
LAST-MODIFIED:20140320T154216Z
UID:1388-1395860400-1395867600@ubwp.buffalo.edu
SUMMARY:MAKERS Screening
DESCRIPTION:UBSoFem is hosting a screening of MAKERS: Women Who Make America\, a documentary recently aired on PBS\, is the story of a social revolution in American history\, in which women fought for their rights to equality\, on Wednesday March 26th. \nThe film will begin at 7pm sharp in Allen Theater\, Rm 107 in Allen Hall\, the blue glass building on UB South Campus\, directly across from the… Tim Hortons on Main Street. Refreshments will be served. Cost is FREE. \nYou can find more info on this film at \nhttp://www.pbs.org/makers/home/ or www.MAKERS.com \n  \nIn addition\, here is a link to our facebook event page: https://www.facebook.com/events/601725389918647/?source=3&source_newsfeed_story_type=regular \n 
URL:https://ubwp.buffalo.edu/gsa/event/makers-screening/
LOCATION:107 Allen Hall\, Buffalo\, NY\, United States
CATEGORIES:Club Event
ORGANIZER;CN="UBSoFem":MAILTO:tanjanii@buffalo.edu
END:VEVENT
BEGIN:VEVENT
DTSTART;TZID=UTC:20140326T200000
DTEND;TZID=UTC:20140326T220000
DTSTAMP:20260423T062813
CREATED:20130925T044144Z
LAST-MODIFIED:20130925T044144Z
UID:593-1395864000-1395871200@ubwp.buffalo.edu
SUMMARY:Sanjay Gupta ~ Distinguished Speaker Series
DESCRIPTION:Free tickets will be available for graduate students at the SBI Ticket Office (221 Student Union). 1 per UB ID.\nDr. Sanjay Gupta is the multiple Emmy-award winning chief medical correspondent for CNN. Gupta\, a practicing neurosurgeon\, plays an integral role in CNN’s reporting on health and medical news for American Morning\, Anderson Cooper 360°\, CNN documentaries\, and anchors the weekend medical affairs program Sanjay Gupta\, MD. Gupta also contributes to CNN.com and CNNHealth.com. His medical training and public health policy experience distinguish his reporting on a range of medical and scientific topics including brain injury\, disaster recovery\, health care reform\, fitness\, military medicine\, HIV/AIDS\, and other areas. \nIn 2011\, Gupta has reported from earthquake- and tsunami-ravaged Japan\, adding clarity and context to the human impact and radiation concerns. In 2010\, Gupta reported on the devastating earthquake in Haiti\, for which he was awarded two Emmys. His distinctive reporting in 2010 included live coverage on the unprecedented flooding in Pakistan. \nBased in Atlanta\, Gupta joined CNN in the summer of 2001. He reported from New York following the attacks on the U.S. on Sept. 11\, 2001. In 2003\, he embedded with the U.S. Navy’s “Devil Docs” medical unit\, reporting from Iraq and Kuwait as the unit traveled to Baghdad. He provided live coverage of the first operation performed during the war\, and performed life-saving brain surgery five times himself in a desert operating room. \nGupta contributed to the network’s 2010 Peabody Award-winning coverage of the oil disaster in the Gulf of Mexico. In 2006\, Gupta contributed to CNN’s Peabody Award-winning coverage of Hurricane Katrina\, revealing that official reports that Charity Hospital in New Orleans had been evacuated were incorrect. His “Charity Hospital” coverage for Anderson Cooper 360° resulted in his 2006 News & Documentary Emmy for Outstanding Feature Story. In 2004\, Gupta was sent to Sri Lanka to cover the tsunami disaster that took more than 155\,000 lives in Southeast Asia\, contributing to the 2005 Alfred I. DuPont-Columbia Award for CNN. \nGupta’s passion for inspiring Americans to lead healthier\, more active lives led him to launch “Fit Nation\,” CNN’s multi-platform anti-obesity initiative. In 2011\, “Fit Nation” follows the progress of Gupta and six CNN viewers as they inspire each other while training for a triathlon. \nIn addition to his work for CNN\, Gupta is a member of the staff and faculty at the Emory University School of Medicine. He is associate chief of neurosurgery at Grady Memorial Hospital and regularly performs surgery at Emory University and Grady hospitals. He holds memberships in the American Association of Neurological Surgeons\, Congress of Neurological Surgeons\, and the Council on Foreign Relations. He serves as a diplomat of the American Board of Neurosurgery\, is a certified medical investigator\, is a board member of the LiveStrong Foundation\, and is a contributor to everydayhealth.com. \nBefore joining CNN\, Gupta completed separate neurosurgical fellowships at the Semmes- Murphey Clinic in Tennessee\, and the University of Michigan Medical Center. In 1997\, he was selected as a White House Fellow\, serving as a special advisor to First Lady Hillary Clinton. \nGupta contributes to the CBS newsmagazine 60 Minutes. He is the author of three best-selling books\, Chasing Life (2007) andCheating Death (2009)\, both of which became companion documentaries for CNN\, and Monday Mornings (2012). \nIn 2003\, Gupta was named one of People magazine’s “Sexiest Men Alive” and a “pop culture icon” by USA Today. That same year\, he also won the Humanitarian Award from the National Press Photographers Association. In 2004\, the Atlanta Press Club named him “Journalist of the Year\,” and in 2009\, he won both the first Health Communications Achievement Award from the American Medical Association’s Medical Communications Conference and the Mickey Leland Humanitarian Award from the National Association for Multi-ethnicity in Communications (NAMIC). In 2010\, Gupta was honored by John F. Kennedy University with its Laureate Award for leaders in health and wellness. In 2011\, Forbes magazine named him as one of the “Ten Most Influential Celebrities.” \nGupta received his undergraduate degree from the University of Michigan and a doctorate of medicine from the University of Michigan Medical School.
URL:https://ubwp.buffalo.edu/gsa/event/sanjay-gupta-distinguished-speaker-series/
LOCATION:Alumni Arena\, Alumni Arena\, University at Buffalo\, Buffalo\, 14260
CATEGORIES:GSA Event
ORGANIZER;CN="GSA Administrative Team":MAILTO:slfrank@buffalo.edu
END:VEVENT
END:VCALENDAR