BEGIN:VCALENDAR
VERSION:2.0
PRODID:-//Graduate Student Association - ECPv6.15.20//NONSGML v1.0//EN
CALSCALE:GREGORIAN
METHOD:PUBLISH
X-WR-CALNAME:Graduate Student Association
X-ORIGINAL-URL:https://ubwp.buffalo.edu/gsa
X-WR-CALDESC:Events for Graduate Student Association
REFRESH-INTERVAL;VALUE=DURATION:PT1H
X-Robots-Tag:noindex
X-PUBLISHED-TTL:PT1H
BEGIN:VTIMEZONE
TZID:UTC
BEGIN:STANDARD
TZOFFSETFROM:+0000
TZOFFSETTO:+0000
TZNAME:UTC
DTSTART:20130101T000000
END:STANDARD
END:VTIMEZONE
BEGIN:VEVENT
DTSTART;TZID=UTC:20140324T090000
DTEND;TZID=UTC:20140324T170000
DTSTAMP:20260423T062814
CREATED:20140307T141430Z
LAST-MODIFIED:20140307T141430Z
UID:1333-1395651600-1395680400@ubwp.buffalo.edu
SUMMARY:GPSA Student Presentations
DESCRIPTION:The Graduate Planning Student Association is planning an event in collaboration with Architecture GSA to present student work during Atelier week at the end of March.  This event will give students the opportunity to present ongoing and completed work\, and will encourage interdisciplinary collaboration between Architecture and Planning students.  In addition\, professionals from each field will speak and present work\, and several faculty members will speak and moderate.
URL:https://ubwp.buffalo.edu/gsa/event/gpsa-student-presentations/
LOCATION:Crosby Hall\, Buffalo\, NY\, United States
CATEGORIES:Club Event
END:VEVENT
BEGIN:VEVENT
DTSTART;TZID=UTC:20140324T170000
DTEND;TZID=UTC:20140324T180000
DTSTAMP:20260423T062814
CREATED:20140320T154618Z
LAST-MODIFIED:20140320T154618Z
UID:1392-1395680400-1395684000@ubwp.buffalo.edu
SUMMARY:We Scream ~ UB SoFem Discussion
DESCRIPTION:Monday\, March 24\, 5pm\, 220 Student Union \nWe Scream!  Discussion over ice cream. \nTopic: Breasts \nHosted by the Society of Feminists
URL:https://ubwp.buffalo.edu/gsa/event/we-scream-ub-sofem-discussion/
LOCATION:220 Student Union\, Buffalo\, NY\, United States
CATEGORIES:Club Event
ORGANIZER;CN="UBSoFem":MAILTO:tanjanii@buffalo.edu
END:VEVENT
END:VCALENDAR