BEGIN:VCALENDAR
VERSION:2.0
PRODID:-//Graduate Student Association - ECPv6.15.20//NONSGML v1.0//EN
CALSCALE:GREGORIAN
METHOD:PUBLISH
X-ORIGINAL-URL:https://ubwp.buffalo.edu/gsa
X-WR-CALDESC:Events for Graduate Student Association
REFRESH-INTERVAL;VALUE=DURATION:PT1H
X-Robots-Tag:noindex
X-PUBLISHED-TTL:PT1H
BEGIN:VTIMEZONE
TZID:UTC
BEGIN:STANDARD
TZOFFSETFROM:+0000
TZOFFSETTO:+0000
TZNAME:UTC
DTSTART:20130101T000000
END:STANDARD
END:VTIMEZONE
BEGIN:VEVENT
DTSTART;TZID=UTC:20140216T150000
DTEND;TZID=UTC:20140216T170000
DTSTAMP:20260421T130532
CREATED:20130925T000122Z
LAST-MODIFIED:20130925T000122Z
UID:564-1392562800-1392570000@ubwp.buffalo.edu
SUMMARY:Parker Quartet ~ Beethoven Cycle Concert III
DESCRIPTION:Tickets on sale January 20th at the SBI Ticket Office (221 Student Union) for $3 each. 2 per UB ID.\nDaniel Chong & Ying Xue\, violin; Jessica Bodner\, viola; Kee-Hyun Kim\, cello \nBeethoven: Quartet in D Major\, Op. 18\, No. 3\n“Grosse Fuge\,” Op. 133\n—\nQuartet in F Major\, Op. 59\, No. 1
URL:https://ubwp.buffalo.edu/gsa/event/parker-quartet-beethoven-cycle-concert-iii/
LOCATION:Slee Hall\, Slee Hall\, University at Buffalo\, Buffalo\, NY\, 14260\, United States
CATEGORIES:GSA Event
ORGANIZER;CN="GSA Programming Coordinator":MAILTO:gsa-programming@buffalo.edu
END:VEVENT
END:VCALENDAR