BEGIN:VCALENDAR
VERSION:2.0
PRODID:-//Graduate Student Association - ECPv6.15.20//NONSGML v1.0//EN
CALSCALE:GREGORIAN
METHOD:PUBLISH
X-ORIGINAL-URL:https://ubwp.buffalo.edu/gsa
X-WR-CALDESC:Events for Graduate Student Association
REFRESH-INTERVAL;VALUE=DURATION:PT1H
X-Robots-Tag:noindex
X-PUBLISHED-TTL:PT1H
BEGIN:VTIMEZONE
TZID:UTC
BEGIN:STANDARD
TZOFFSETFROM:+0000
TZOFFSETTO:+0000
TZNAME:UTC
DTSTART:20130101T000000
END:STANDARD
END:VTIMEZONE
BEGIN:VEVENT
DTSTART;TZID=UTC:20140214T160000
DTEND;TZID=UTC:20140214T160000
DTSTAMP:20260422T070012
CREATED:20140204T111118Z
LAST-MODIFIED:20140204T111118Z
UID:1084-1392393600-1392393600@ubwp.buffalo.edu
SUMMARY:SBI Spring Programming Grant Deadline
DESCRIPTION:Applications are due in 341 Student Union by 4:00pm\, and must have the signature of the GSA Treasurer before they can be submitted.
URL:https://ubwp.buffalo.edu/gsa/event/sbi-spring-programming-grant-deadline/
LOCATION:Unnamed Venue\, Buffalo\, NY\, United States
CATEGORIES:Administrative
ORGANIZER;CN="GSA Administrative Team":MAILTO:slfrank@buffalo.edu
END:VEVENT
BEGIN:VEVENT
DTSTART;TZID=UTC:20140214T193000
DTEND;TZID=UTC:20140214T213000
DTSTAMP:20260422T070012
CREATED:20130924T235515Z
LAST-MODIFIED:20130924T235515Z
UID:562-1392406200-1392413400@ubwp.buffalo.edu
SUMMARY:Parker Quartet ~ Beethoven Cycle Concert I
DESCRIPTION:Tickets on sale January 20th at the SBI Ticket Office (221 Student Union) for $3 each. 2 per UB ID.\nDaniel Chong & Ying Xue\, violin; Jessica Bodner\, viola; Kee-Hyun Kim\, cello \nBeethoven:\nQuartet in E-flat Major\, Op. 127\nQuartet in F Major\, Op. 18\, No. 1\n—-\nQuartet in C Major\, Op. 59\, No. 3
URL:https://ubwp.buffalo.edu/gsa/event/parker-quartet-beethoven-cycle-concert-i/
LOCATION:Slee Hall\, Slee Hall\, University at Buffalo\, Buffalo\, NY\, 14260\, United States
CATEGORIES:GSA Event
ORGANIZER;CN="GSA Programming Coordinator":MAILTO:gsa-programming@buffalo.edu
END:VEVENT
END:VCALENDAR