BEGIN:VCALENDAR
VERSION:2.0
PRODID:-//Graduate Student Association - ECPv6.15.20//NONSGML v1.0//EN
CALSCALE:GREGORIAN
METHOD:PUBLISH
X-WR-CALNAME:Graduate Student Association
X-ORIGINAL-URL:https://ubwp.buffalo.edu/gsa
X-WR-CALDESC:Events for Graduate Student Association
REFRESH-INTERVAL;VALUE=DURATION:PT1H
X-Robots-Tag:noindex
X-PUBLISHED-TTL:PT1H
BEGIN:VTIMEZONE
TZID:UTC
BEGIN:STANDARD
TZOFFSETFROM:+0000
TZOFFSETTO:+0000
TZNAME:UTC
DTSTART:20130101T000000
END:STANDARD
END:VTIMEZONE
BEGIN:VEVENT
DTSTART;TZID=UTC:20140203T190000
DTEND;TZID=UTC:20140203T220000
DTSTAMP:20260424T235155
CREATED:20140214T114011Z
LAST-MODIFIED:20140214T114011Z
UID:1149-1391454000-1391464800@ubwp.buffalo.edu
SUMMARY:Tango Practica
DESCRIPTION:The UB Argentine Tango Club offers weekly practica in Harriman Hall\, room 105 starting at 7pm on Mondays. \nThe Spring Schedule and Curriculum: \n– February Regular Event\nFebruary 3\, 2014 – Monday Practica: Abrazo and Caminada (Embrace and Walking)\nFebruary 10\, 2014 – Monday Practica: Parallel and Cross Walking System\nFebruary 17\, 2014 – Monday Practica: Cadencia (Rockstep)\nFebruary 24\, 3014 – Monday Practica: Cambio de Peso (Weight Change) and Cruzada (Cross) \n– March Regular Event\nMarch 3\, 2014 – Monday Practica: Ocho Cortado\nMarch 10\, 2014 – Monday Practica: Pivot and Directional Turns\nMarch 17\, 2014 – SPRING RECESS; NO PRACTICA\nMarch 24\, 2014 – Monday Practica: Parada (Stop) and Sandwich\nMarch 31\, 2014 – Monday Practica: Front Ocho \n– April Regular Event\nApril 7\, 2014 – Monday Practica: Back Ocho\nApril 14\, 2014– PRACTICA CANCELLED\nApril 21\, 2014 – Monday Practica: Molinete / Media Luna\nApril 28\, 2014 – PRACTICA CANCELLED \n– May Regular Event\nMay 5\, 2014 – Monday Practica: Arrastre (Drag)
URL:https://ubwp.buffalo.edu/gsa/event/tango-practica-2/
LOCATION:105 Harriman Hall\, 105 Harriman Hall\, University at Buffalo\, Buffalo\, NY\, 14260\, United States
CATEGORIES:Club Event
ORGANIZER;CN="Argentine Tango":MAILTO:dsavija@buffalo.edu
END:VEVENT
END:VCALENDAR