BEGIN:VCALENDAR
VERSION:2.0
PRODID:-//Graduate Student Association - ECPv6.15.20//NONSGML v1.0//EN
CALSCALE:GREGORIAN
METHOD:PUBLISH
X-WR-CALNAME:Graduate Student Association
X-ORIGINAL-URL:https://ubwp.buffalo.edu/gsa
X-WR-CALDESC:Events for Graduate Student Association
REFRESH-INTERVAL;VALUE=DURATION:PT1H
X-Robots-Tag:noindex
X-PUBLISHED-TTL:PT1H
BEGIN:VTIMEZONE
TZID:UTC
BEGIN:STANDARD
TZOFFSETFROM:+0000
TZOFFSETTO:+0000
TZNAME:UTC
DTSTART:20120101T000000
END:STANDARD
END:VTIMEZONE
BEGIN:VEVENT
DTSTART;TZID=UTC:20131028T190000
DTEND;TZID=UTC:20131028T220000
DTSTAMP:20260424T080257
CREATED:20130917T144319Z
LAST-MODIFIED:20130917T144319Z
UID:423-1382986800-1382997600@ubwp.buffalo.edu
SUMMARY:Buffalo Sabres Hockey Game
DESCRIPTION:Buffalo Sabres Hockey Game vs. Dallas Stars\, 7pm at First Niagara Center \nTickets on sale October 7th at the SBI Ticket Office (221 Student Union) for $20 each.  2 per UB ID.
URL:https://ubwp.buffalo.edu/gsa/event/buffalo-sabres-hockey-game/
LOCATION:First Niagara Center
CATEGORIES:GSA Event
ORGANIZER;CN="GSA Programming Coordinator":MAILTO:gsa-programming@buffalo.edu
END:VEVENT
END:VCALENDAR