BEGIN:VCALENDAR
VERSION:2.0
PRODID:-//Graduate Student Association - ECPv6.15.20//NONSGML v1.0//EN
CALSCALE:GREGORIAN
METHOD:PUBLISH
X-ORIGINAL-URL:https://ubwp.buffalo.edu/gsa
X-WR-CALDESC:Events for Graduate Student Association
REFRESH-INTERVAL;VALUE=DURATION:PT1H
X-Robots-Tag:noindex
X-PUBLISHED-TTL:PT1H
BEGIN:VTIMEZONE
TZID:UTC
BEGIN:STANDARD
TZOFFSETFROM:+0000
TZOFFSETTO:+0000
TZNAME:UTC
DTSTART:20120101T000000
END:STANDARD
END:VTIMEZONE
BEGIN:VEVENT
DTSTART;TZID=UTC:20131022T120000
DTEND;TZID=UTC:20131022T133000
DTSTAMP:20260424T035153
CREATED:20130924T233106Z
LAST-MODIFIED:20130924T233106Z
UID:554-1382443200-1382448600@ubwp.buffalo.edu
SUMMARY:Karen Finley ~ Visual Studies Roundtable
DESCRIPTION:Tuesday 10/22 from 12pm-1:30pm: Roundtable Lunch Discussion: Censorship and the Arts\nThe Gender Institute\, the Graduate Student Association\, the Leslie Lohman Museum for Gay and Lesbian Art Queer Art Lecture Series\, and the Department of Visual Studies Speaker Series present Karen Finley\, Artist in Residency. \nKaren Finley is an artist\, performer and author.  Born in Chicago\, she received her MFA from the San Francisco Art Institute. She works in a variety of mediums such as installation\, video\, performance\, public art\, visual art\, music and literature.  She has performed and exhibited internationally. Finley was the named plaintiff in Finley vs. The NEA that was argued in the Supreme Court in 1998 about the application of decency in government funding.  Finley is active in freedom of expression concerns\, visual culture\, and art education and lectures\, and gives workshops widely. The author of 8 books including her latest work of creative nonfiction; Reality Shows published by Feminist Press 2011. Most recently she had a performance and installation of her interactive work Sext Me if You Can at the New Museum\, New York City\, May 2013\, where museum patrons commission Finley with a sext taken in a private booth in the museum\, which she then transforms into art. She is the recipient of many awards and grants including a Guggenheim Fellowship. She is an arts professor in the department of Art and Public Policy at New York University. \nFlier
URL:https://ubwp.buffalo.edu/gsa/event/karen-finley-visual-studies-roundtable/
LOCATION:210 Student Union\, 210 Student Union\, University at Buffalo\, Buffalo\, NY\, 14260\, United States
CATEGORIES:Club Event
END:VEVENT
BEGIN:VEVENT
DTSTART;TZID=UTC:20131022T190000
DTEND;TZID=UTC:20131022T210000
DTSTAMP:20260424T035153
CREATED:20130924T233507Z
LAST-MODIFIED:20130924T233507Z
UID:556-1382468400-1382475600@ubwp.buffalo.edu
SUMMARY:Karen Finley ~ Performance
DESCRIPTION:Tuesday 10/22 at 7pm Performance: Written in Sand: Collected AIDS Writings\nThe Gender Institute\, the Graduate Student Association\, the Leslie Lohman Museum for Gay and Lesbian Art Queer Art Lecture Series\, and the Department of Visual Studies Speaker Series present Karen Finley\, Artist in Residency. \nKaren Finley is an artist\, performer and author.  Born in Chicago\, she received her MFA from the San Francisco Art Institute. She works in a variety of mediums such as installation\, video\, performance\, public art\, visual art\, music and literature.  She has performed and exhibited internationally. Finley was the named plaintiff in Finley vs. The NEA that was argued in the Supreme Court in 1998 about the application of decency in government funding.  Finley is active in freedom of expression concerns\, visual culture\, and art education and lectures\, and gives workshops widely. The author of 8 books including her latest work of creative nonfiction; Reality Shows published by Feminist Press 2011. Most recently she had a performance and installation of her interactive work Sext Me if You Can at the New Museum\, New York City\, May 2013\, where museum patrons commission Finley with a sext taken in a private booth in the museum\, which she then transforms into art. She is the recipient of many awards and grants including a Guggenheim Fellowship. She is an arts professor in the department of Art and Public Policy at New York University. \nFlier
URL:https://ubwp.buffalo.edu/gsa/event/karen-finley-performance/
LOCATION:Baird Recital Hall\, 250 Baird Hall\, University at Buffalo\, Buffalo\, NY\, 14260\, United States
CATEGORIES:Club Event
END:VEVENT
BEGIN:VEVENT
DTSTART;TZID=UTC:20131022T190000
DTEND;TZID=UTC:20131022T220000
DTSTAMP:20260424T035153
CREATED:20130924T200457Z
LAST-MODIFIED:20130924T200457Z
UID:504-1382468400-1382479200@ubwp.buffalo.edu
SUMMARY:Death Row ~ Buffalo Film Seminar Series
DESCRIPTION:Diane Christian and Bruce Jackson will introduce and discuss their film “Death Row.” \nFree tickets available at the SBI Ticket Office (221 Student Union). 2 per UB ID.
URL:https://ubwp.buffalo.edu/gsa/event/death-row-buffalo-film-seminar-series/
LOCATION:Market Arcade Film & Arts Centre\, 639 Main St\, Buffalo\, NY\, 14203\, United States
CATEGORIES:GSA Event
ORGANIZER;CN="GSA Programming Coordinator":MAILTO:gsa-programming@buffalo.edu
END:VEVENT
END:VCALENDAR