BEGIN:VCALENDAR
VERSION:2.0
PRODID:-//Graduate Student Association - ECPv6.15.20//NONSGML v1.0//EN
CALSCALE:GREGORIAN
METHOD:PUBLISH
X-ORIGINAL-URL:https://ubwp.buffalo.edu/gsa
X-WR-CALDESC:Events for Graduate Student Association
REFRESH-INTERVAL;VALUE=DURATION:PT1H
X-Robots-Tag:noindex
X-PUBLISHED-TTL:PT1H
BEGIN:VTIMEZONE
TZID:UTC
BEGIN:STANDARD
TZOFFSETFROM:+0000
TZOFFSETTO:+0000
TZNAME:UTC
DTSTART:20120101T000000
END:STANDARD
END:VTIMEZONE
BEGIN:VEVENT
DTSTART;TZID=UTC:20131002T173000
DTEND;TZID=UTC:20131002T200000
DTSTAMP:20260426T023012
CREATED:20130924T204553Z
LAST-MODIFIED:20130924T204553Z
UID:515-1380735000-1380744000@ubwp.buffalo.edu
SUMMARY:"Archiculture" Screening
DESCRIPTION:The film is depicted in the lens of an architecture school\, and takes a thoughtful\, yet critical\, look at the world of studio-based design education through the eyes of a group of students finishing their design Theses. The film highlights topics relevant to all types of design-oriented degree programs and their related fields. The range of topics that the film covers includes the nature of studio culture\, subjectivity and design criticism\, design school versus professional practice\, design education and techniques\, etc.: all experiences that young creatives are exposed to in a design-oriented degree program. Throughout the film\, interviews with leading professionals\, historians\, and educators help create a crucial dialog around these key issues faced by the unique teaching methodologies used in design education. \n[vimeo http://vimeo.com/63420535]\nAfter the screening\, a discussion with the invited guests (the film’s producer and a student participant) will provide an opportunity for a diversified audience to contribute to a conversation on the various strategies of design-oriented education\, teaching\, and its relationship to practice.
URL:https://ubwp.buffalo.edu/gsa/event/archiculture-screening/
LOCATION:148 Diefendorf Hall\, 148 Diefendorf Hall\, University at Buffalo\, Buffalo\, NY\, United States
CATEGORIES:Club Event
END:VEVENT
BEGIN:VEVENT
DTSTART;TZID=UTC:20131002T190000
DTEND;TZID=UTC:20131002T210000
DTSTAMP:20260426T023012
CREATED:20130826T143011Z
LAST-MODIFIED:20130826T143011Z
UID:162-1380740400-1380747600@ubwp.buffalo.edu
SUMMARY:October Senate Meeting
DESCRIPTION:GSA Senate meetings are open to the public\, but only designated representatives from Departmental and International clubs may vote.  Sign-in begins at 6:30 pm so that the meeting can begin promptly at 7:00 pm.
URL:https://ubwp.buffalo.edu/gsa/event/october-senate-meeting/
LOCATION:330 Student Union\, 330 Student Union\, University at Buffalo\, Buffalo\, NY\, 14260\, United States
CATEGORIES:Administrative
ORGANIZER;CN="GSA Administrative Team":MAILTO:slfrank@buffalo.edu
END:VEVENT
END:VCALENDAR