BEGIN:VCALENDAR
VERSION:2.0
PRODID:-//Graduate Student Association - ECPv6.15.20//NONSGML v1.0//EN
CALSCALE:GREGORIAN
METHOD:PUBLISH
X-WR-CALNAME:Graduate Student Association
X-ORIGINAL-URL:https://ubwp.buffalo.edu/gsa
X-WR-CALDESC:Events for Graduate Student Association
REFRESH-INTERVAL;VALUE=DURATION:PT1H
X-Robots-Tag:noindex
X-PUBLISHED-TTL:PT1H
BEGIN:VTIMEZONE
TZID:UTC
BEGIN:STANDARD
TZOFFSETFROM:+0000
TZOFFSETTO:+0000
TZNAME:UTC
DTSTART:20120101T000000
END:STANDARD
END:VTIMEZONE
BEGIN:VEVENT
DTSTART;TZID=UTC:20130830T130000
DTEND;TZID=UTC:20130830T140000
DTSTAMP:20260426T012937
CREATED:20130826T132331Z
LAST-MODIFIED:20130826T132331Z
UID:144-1377867600-1377871200@ubwp.buffalo.edu
SUMMARY:MDRF Workshopr
DESCRIPTION:MDRF Grant Application Workshop and Question and Answer session
URL:https://ubwp.buffalo.edu/gsa/event/mdrf-workshopr/
LOCATION:GSA Back Room\, 311 Student Union\, University at Buffalo\, Buffalo\, NY\, 14260\, United States
CATEGORIES:MDRF
ORGANIZER;CN="MDRF Director":MAILTO:gsa-mdrf@buffalo.edu
END:VEVENT
BEGIN:VEVENT
DTSTART;TZID=UTC:20130830T173000
DTEND;TZID=UTC:20130830T210000
DTSTAMP:20260426T012937
CREATED:20130821T200955Z
LAST-MODIFIED:20130821T200955Z
UID:125-1377883800-1377896400@ubwp.buffalo.edu
SUMMARY:Welcome Back Bash
DESCRIPTION:Join the GSA in celebrating the beginning of the school year with free beer\, pizza and wings for graduate students.\nPlease bring your UB ID and proof of age.
URL:https://ubwp.buffalo.edu/gsa/event/welcome-back-bash/
LOCATION:City Tavern Buffalo\, 51 W Chippewa St Buffalo\, NY 14202 \, Buffalo\, NY\, 14202\, United States
CATEGORIES:GSA Event
ORGANIZER;CN="GSA Programming Coordinator":MAILTO:gsa-programming@buffalo.edu
END:VEVENT
END:VCALENDAR